BEGIN:VCALENDAR
VERSION:2.0
PRODID:-//Discrete Mathematics Group - ECPv6.15.20//NONSGML v1.0//EN
CALSCALE:GREGORIAN
METHOD:PUBLISH
X-ORIGINAL-URL:https://dimag.ibs.re.kr
X-WR-CALDESC:Events for Discrete Mathematics Group
REFRESH-INTERVAL;VALUE=DURATION:PT1H
X-Robots-Tag:noindex
X-PUBLISHED-TTL:PT1H
BEGIN:VTIMEZONE
TZID:Asia/Seoul
BEGIN:STANDARD
TZOFFSETFROM:+0900
TZOFFSETTO:+0900
TZNAME:KST
DTSTART:20210101T000000
END:STANDARD
END:VTIMEZONE
BEGIN:VEVENT
DTSTART;TZID=Asia/Seoul:20220425T163000
DTEND;TZID=Asia/Seoul:20220425T173000
DTSTAMP:20260420T060130
CREATED:20220425T073000Z
LAST-MODIFIED:20240707T080049Z
UID:5322-1650904200-1650907800@dimag.ibs.re.kr
SUMMARY:Boram Park (박보람)\, Odd coloring of sparse graphs
DESCRIPTION:We introduce an odd coloring of a graph\, which was introduced very recently\, motivated by parity type colorings of graphs. A proper vertex coloring of graph $G$ is said to be odd if for each non-isolated vertex $x \in V (G)$ there exists a color $c$ such that $c$ is used an odd number of times in the neighborhood of $x$. The recent work on this topic will be presented\, and the work is based on Eun-Kyung Cho\, Ilkyoo Choi\, and Hyemin Kown.
URL:https://dimag.ibs.re.kr/event/2022-04-25/
LOCATION:Room B232\, IBS (기초과학연구원)
CATEGORIES:Discrete Math Seminar
END:VEVENT
END:VCALENDAR