BEGIN:VCALENDAR
VERSION:2.0
PRODID:-//Discrete Mathematics Group - ECPv6.15.20//NONSGML v1.0//EN
CALSCALE:GREGORIAN
METHOD:PUBLISH
X-ORIGINAL-URL:https://dimag.ibs.re.kr
X-WR-CALDESC:Events for Discrete Mathematics Group
REFRESH-INTERVAL;VALUE=DURATION:PT1H
X-Robots-Tag:noindex
X-PUBLISHED-TTL:PT1H
BEGIN:VTIMEZONE
TZID:Asia/Seoul
BEGIN:STANDARD
TZOFFSETFROM:+0900
TZOFFSETTO:+0900
TZNAME:KST
DTSTART:20200101T000000
END:STANDARD
END:VTIMEZONE
BEGIN:VEVENT
DTSTART;TZID=Asia/Seoul:20211125T163000
DTEND;TZID=Asia/Seoul:20211125T173000
DTSTAMP:20260419T233124
CREATED:20211125T073000Z
LAST-MODIFIED:20240705T181009Z
UID:4552-1637857800-1637861400@dimag.ibs.re.kr
SUMMARY:Tuukka Korhonen\, Fast FPT-Approximation of Branchwidth
DESCRIPTION:Branchwidth determines how graphs\, and more generally\, arbitrary connectivity (basically symmetric and submodular) functions could be decomposed into a tree-like structure by specific cuts. We develop a general framework for designing fixed-parameter tractable (FPT) 2-approximation algorithms for branchwidth of connectivity functions. The first ingredient of our framework is combinatorial. We prove a structural theorem establishing that either a sequence of particular refinement operations could decrease the width of a branch decomposition or that the width of the decomposition is already within a factor of 2 from the optimum. The second ingredient is an efficient implementation of the refinement operations for branch decompositions that support efficient dynamic programming. We present two concrete applications of our general framework. \n\nAn algorithm that for a given n-vertex graph G and integer k in time $2^{2^{O(k)}} n^2$ either constructs a rank decomposition of G of width at most 2k or concludes that the rankwidth of G is more than $k$. It also yields a $(2^{2k+1}−1)$-approximation algorithm for cliquewidth within the same time complexity\, which in turn\, improves to $f(k) n^2$ the running times of various algorithms on graphs of cliquewidth $k$. Breaking the “cubic barrier” for rankwidth and cliquewidth was an open problem in the area.\nAn algorithm that for a given n-vertex graph G and integer k in time $2^{O(k)} n$ either constructs a branch decomposition of G of width at most $2k$ or concludes that the branchwidth of G is more than $k$. This improves over the 3-approximation that follows from the recent treewidth 2-approximation of Korhonen [FOCS 2021].\n\nThis is joint work with Fedor Fomin.
URL:https://dimag.ibs.re.kr/event/2021-11-25/
LOCATION:Zoom ID: 869 4632 6610 (ibsdimag)
CATEGORIES:Virtual Discrete Math Colloquium
END:VEVENT
END:VCALENDAR