BEGIN:VCALENDAR
VERSION:2.0
PRODID:-//Discrete Mathematics Group - ECPv6.15.20//NONSGML v1.0//EN
CALSCALE:GREGORIAN
METHOD:PUBLISH
X-WR-CALNAME:Discrete Mathematics Group
X-ORIGINAL-URL:https://dimag.ibs.re.kr
X-WR-CALDESC:Events for Discrete Mathematics Group
REFRESH-INTERVAL;VALUE=DURATION:PT1H
X-Robots-Tag:noindex
X-PUBLISHED-TTL:PT1H
BEGIN:VTIMEZONE
TZID:Asia/Seoul
BEGIN:STANDARD
TZOFFSETFROM:+0900
TZOFFSETTO:+0900
TZNAME:KST
DTSTART:20200101T000000
END:STANDARD
END:VTIMEZONE
BEGIN:VEVENT
DTSTART;TZID=Asia/Seoul:20210930T163000
DTEND;TZID=Asia/Seoul:20210930T173000
DTSTAMP:20260420T010433
CREATED:20210930T073000Z
LAST-MODIFIED:20240707T080948Z
UID:4460-1633019400-1633023000@dimag.ibs.re.kr
SUMMARY:Péter Pál Pach\, The Alon-Jaeger-Tarsi conjecture via group ring identities
DESCRIPTION:The Alon-Jaeger-Tarsi conjecture states that for any finite field $\mathbb{F}$ of size at least 4  and any nonsingular matrix $M$ over $\mathbb{F}$ there exists a vector $x$ such that neither $x$ nor $Mx$ has a 0 component. In joint work with János Nagy we proved this conjecture when the size of the field is sufficiently large\, namely\, when $61
URL:https://dimag.ibs.re.kr/event/2021-09-30/
LOCATION:Zoom ID: 869 4632 6610 (ibsdimag)
CATEGORIES:Virtual Discrete Math Colloquium
END:VEVENT
END:VCALENDAR