BEGIN:VCALENDAR
VERSION:2.0
PRODID:-//Discrete Mathematics Group - ECPv6.15.20//NONSGML v1.0//EN
CALSCALE:GREGORIAN
METHOD:PUBLISH
X-ORIGINAL-URL:https://dimag.ibs.re.kr
X-WR-CALDESC:Events for Discrete Mathematics Group
REFRESH-INTERVAL;VALUE=DURATION:PT1H
X-Robots-Tag:noindex
X-PUBLISHED-TTL:PT1H
BEGIN:VTIMEZONE
TZID:Asia/Seoul
BEGIN:STANDARD
TZOFFSETFROM:+0900
TZOFFSETTO:+0900
TZNAME:KST
DTSTART:20200101T000000
END:STANDARD
END:VTIMEZONE
BEGIN:VEVENT
DTSTART;TZID=Asia/Seoul:20210526T170000
DTEND;TZID=Asia/Seoul:20210526T180000
DTSTAMP:20260420T111956
CREATED:20210424T122241Z
LAST-MODIFIED:20240707T081338Z
UID:3986-1622048400-1622052000@dimag.ibs.re.kr
SUMMARY:Dimitrios M. Thilikos\, Bounding Obstructions sets: the cases of apices of minor closed classes
DESCRIPTION:Given a minor-closed graph class ${\cal G}$\, the (minor) obstruction of ${\cal G}$ is the set of all minor-minimal graphs not in ${\cal G}$. Given a non-negative integer $k$\, we define the $k$-apex of ${\cal A}$ as the class containing every graph $G$ with a set $S$ of vertices whose removal from $G$ gives a graph on ${\cal G}$. We prove that every obstruction of the $k$-apex of ${\cal G}$ has size bounded by some 4-fold exponential function of $p(k)$ where p is a polynomial function whose degree depends on the size of the minor-obstructions of ${\cal G}$. This bound drops to a 2-fold exponential one when ${\cal G}$ excludes some apex graph as a minor (i.e.\, a graph in the $1$-apex of planar graphs). \nJoint work with Ignasi Sau and Giannos Stamoulis.
URL:https://dimag.ibs.re.kr/event/2021-05-26/
LOCATION:Zoom ID: 869 4632 6610 (ibsdimag)
CATEGORIES:Virtual Discrete Math Colloquium
END:VEVENT
END:VCALENDAR