BEGIN:VCALENDAR
VERSION:2.0
PRODID:-//Discrete Mathematics Group - ECPv6.15.20//NONSGML v1.0//EN
CALSCALE:GREGORIAN
METHOD:PUBLISH
X-ORIGINAL-URL:https://dimag.ibs.re.kr
X-WR-CALDESC:Events for Discrete Mathematics Group
REFRESH-INTERVAL;VALUE=DURATION:PT1H
X-Robots-Tag:noindex
X-PUBLISHED-TTL:PT1H
BEGIN:VTIMEZONE
TZID:Asia/Seoul
BEGIN:STANDARD
TZOFFSETFROM:+0900
TZOFFSETTO:+0900
TZNAME:KST
DTSTART:20190101T000000
END:STANDARD
END:VTIMEZONE
BEGIN:VEVENT
DTSTART;TZID=Asia/Seoul:20201022T101000
DTEND;TZID=Asia/Seoul:20201022T111000
DTSTAMP:20260423T025553
CREATED:20200927T024614Z
LAST-MODIFIED:20240705T194022Z
UID:3056-1603361400-1603365000@dimag.ibs.re.kr
SUMMARY:Chun-Hung Liu (劉俊宏)\, Asymptotic dimension of minor-closed families and beyond
DESCRIPTION:The asymptotic dimension of metric spaces is an important notion in  geometric group theory. The metric spaces considered in this talk are  the ones whose underlying spaces are the vertex-sets of (edge-)weighted  graphs and whose metrics are the distance functions in weighted graphs.  A standard compactness argument shows that it suffices to consider the  asymptotic dimension of classes of finite weighted graphs. We prove that  the asymptotic dimension of any minor-closed family of weighted graphs\,  any class of weighted graphs of bounded tree-width\, and any class of  graphs of bounded layered tree-width are at most 2\, 1\, and 2\,  respectively. The first result solves a question of Fujiwara and  Papasoglu; the second and third results solve a number of questions of  Bonamy\, Bousquet\, Esperet\, Groenland\, Pirot and Scott. These bounds for  asymptotic dimension are optimal and generalize and improve some results  in the literature\, including results for Riemannian surfaces and Cayley  graphs of groups with a forbidden minor.
URL:https://dimag.ibs.re.kr/event/2020-10-22/
LOCATION:Zoom ID:95464969835 (356260)
CATEGORIES:Virtual Discrete Math Colloquium
END:VEVENT
END:VCALENDAR