BEGIN:VCALENDAR
VERSION:2.0
PRODID:-//Discrete Mathematics Group - ECPv6.15.20//NONSGML v1.0//EN
CALSCALE:GREGORIAN
METHOD:PUBLISH
X-WR-CALNAME:Discrete Mathematics Group
X-ORIGINAL-URL:https://dimag.ibs.re.kr
X-WR-CALDESC:Events for Discrete Mathematics Group
REFRESH-INTERVAL;VALUE=DURATION:PT1H
X-Robots-Tag:noindex
X-PUBLISHED-TTL:PT1H
BEGIN:VTIMEZONE
TZID:Asia/Seoul
BEGIN:STANDARD
TZOFFSETFROM:+0900
TZOFFSETTO:+0900
TZNAME:KST
DTSTART:20190101T000000
END:STANDARD
END:VTIMEZONE
BEGIN:VEVENT
DTSTART;TZID=Asia/Seoul:20200818T163000
DTEND;TZID=Asia/Seoul:20200818T173000
DTSTAMP:20260420T001155
CREATED:20200804T124550Z
LAST-MODIFIED:20240707T082915Z
UID:2750-1597768200-1597771800@dimag.ibs.re.kr
SUMMARY:Tuan Tran\, Anti-concentration phenomena
DESCRIPTION:Let $X$ be a real random variable; a typical anti-concentration inequality asserts that (under certain assumptions) if an interval $I$ has small length\, then $\mathbb{P}(X\in I)$ is small\, regardless the location of $I$. Inequalities of this type have found powerful applications in many branches of mathematics. In this talk we will discuss several recent applications of anti-concentration inequalities in extremal combinatorics\, as well as random matrix theory. The talk is partially based on joint work with Matthew Kwan and Benny Sudakov.
URL:https://dimag.ibs.re.kr/event/2020-08-18/
LOCATION:Room B232\, IBS (기초과학연구원)
CATEGORIES:Discrete Math Seminar
END:VEVENT
END:VCALENDAR