BEGIN:VCALENDAR
VERSION:2.0
PRODID:-//Discrete Mathematics Group - ECPv6.15.20//NONSGML v1.0//EN
CALSCALE:GREGORIAN
METHOD:PUBLISH
X-WR-CALNAME:Discrete Mathematics Group
X-ORIGINAL-URL:https://dimag.ibs.re.kr
X-WR-CALDESC:Events for Discrete Mathematics Group
REFRESH-INTERVAL;VALUE=DURATION:PT1H
X-Robots-Tag:noindex
X-PUBLISHED-TTL:PT1H
BEGIN:VTIMEZONE
TZID:Asia/Seoul
BEGIN:STANDARD
TZOFFSETFROM:+0900
TZOFFSETTO:+0900
TZNAME:KST
DTSTART:20190101T000000
END:STANDARD
END:VTIMEZONE
BEGIN:VEVENT
DTSTART;TZID=Asia/Seoul:20200804T163000
DTEND;TZID=Asia/Seoul:20200804T173000
DTSTAMP:20260420T001143
CREATED:20200708T124259Z
LAST-MODIFIED:20240705T200010Z
UID:2626-1596558600-1596562200@dimag.ibs.re.kr
SUMMARY:June Huh (허준이)\, Kazhdan-Lusztig polynomials of graphs and matroids
DESCRIPTION:I will introduce Kazhdan-Lusztig polynomials of matroids and survey combinatorial and geometric theories built around them. The focus will be on the conjecture of Gedeon\, Proudfoot\, and Young that all zeros of the Kazhdan-Lusztig polynomial of a matroid lie on the negative real axis.
URL:https://dimag.ibs.re.kr/event/2020-08-04/
LOCATION:Room B232\, IBS (기초과학연구원)
CATEGORIES:Discrete Math Seminar
END:VEVENT
END:VCALENDAR