BEGIN:VCALENDAR
VERSION:2.0
PRODID:-//Discrete Mathematics Group - ECPv6.15.20//NONSGML v1.0//EN
CALSCALE:GREGORIAN
METHOD:PUBLISH
X-ORIGINAL-URL:https://dimag.ibs.re.kr
X-WR-CALDESC:Events for Discrete Mathematics Group
REFRESH-INTERVAL;VALUE=DURATION:PT1H
X-Robots-Tag:noindex
X-PUBLISHED-TTL:PT1H
BEGIN:VTIMEZONE
TZID:Asia/Seoul
BEGIN:STANDARD
TZOFFSETFROM:+0900
TZOFFSETTO:+0900
TZNAME:KST
DTSTART:20190101T000000
END:STANDARD
END:VTIMEZONE
BEGIN:VEVENT
DTSTART;TZID=Asia/Seoul:20200218T163000
DTEND;TZID=Asia/Seoul:20200218T173000
DTSTAMP:20260420T114855
CREATED:20200114T112946Z
LAST-MODIFIED:20240705T202042Z
UID:2039-1582043400-1582047000@dimag.ibs.re.kr
SUMMARY:Dong Yeap Kang (강동엽)\, Fragile minor-monotone parameters under random edge perturbation
DESCRIPTION:We investigate how minor-monotone graph parameters change if we add a few random edges to a connected graph $H$. Surprisingly\, after adding a few random edges\, its treewidth\, treedepth\, genus\, and the size of a largest complete minor become very large regardless of the shape of $H$. Our results are close to best possible for various cases. We also discuss analogous results for randomly perturbed bipartite graphs as well as the size of a largest complete odd minor in randomly perturbed graphs.
URL:https://dimag.ibs.re.kr/event/2020-02-18/
LOCATION:Room B232\, IBS (기초과학연구원)
CATEGORIES:Discrete Math Seminar
END:VEVENT
END:VCALENDAR