BEGIN:VCALENDAR
VERSION:2.0
PRODID:-//Discrete Mathematics Group - ECPv6.15.20//NONSGML v1.0//EN
CALSCALE:GREGORIAN
METHOD:PUBLISH
X-ORIGINAL-URL:https://dimag.ibs.re.kr
X-WR-CALDESC:Events for Discrete Mathematics Group
REFRESH-INTERVAL;VALUE=DURATION:PT1H
X-Robots-Tag:noindex
X-PUBLISHED-TTL:PT1H
BEGIN:VTIMEZONE
TZID:Asia/Seoul
BEGIN:STANDARD
TZOFFSETFROM:+0900
TZOFFSETTO:+0900
TZNAME:KST
DTSTART:20180101T000000
END:STANDARD
END:VTIMEZONE
BEGIN:VEVENT
DTSTART;TZID=Asia/Seoul:20190919T163000
DTEND;TZID=Asia/Seoul:20190919T173000
DTSTAMP:20260423T010319
CREATED:20190815T090406Z
LAST-MODIFIED:20240707T090104Z
UID:1277-1568910600-1568914200@dimag.ibs.re.kr
SUMMARY:Cory Palmer\, A survey of Turán-type subgraph counting problems
DESCRIPTION:Let $F$ and $H$ be graphs. The subgraph counting function $\operatorname{ex}(n\,H\,F)$ is defined as the maximum possible number of subgraphs $H$ in an $n$-vertex $F$-free graph. This function is a direct generalization of the Turán function as $\operatorname{ex}(n\,F)=\operatorname{ex}(n\,K_2\,F)$. The systematic study of $\operatorname{ex}(n\,H\,F)$ was initiated by Alon and Shikhelman in 2016 who generalized several classical results in extremal graph theory to the subgraph counting setting. Prior to their paper\, a number of individual cases were investigated; a well-known example is the question to determine the maximum number of pentagons in a triangle-free graph. In this talk we will survey results on the function $\operatorname{ex}(n\,H\,F)$ including a number of recent papers. We will also discuss this function’s connection to hypergraph Turán problems.
URL:https://dimag.ibs.re.kr/event/2019-09-19/
LOCATION:Room B232\, IBS (기초과학연구원)
CATEGORIES:Discrete Math Seminar
END:VEVENT
END:VCALENDAR