BEGIN:VCALENDAR
VERSION:2.0
PRODID:-//Discrete Mathematics Group - ECPv6.15.20//NONSGML v1.0//EN
CALSCALE:GREGORIAN
METHOD:PUBLISH
X-WR-CALNAME:Discrete Mathematics Group
X-ORIGINAL-URL:https://dimag.ibs.re.kr
X-WR-CALDESC:Events for Discrete Mathematics Group
REFRESH-INTERVAL;VALUE=DURATION:PT1H
X-Robots-Tag:noindex
X-PUBLISHED-TTL:PT1H
BEGIN:VTIMEZONE
TZID:Asia/Seoul
BEGIN:STANDARD
TZOFFSETFROM:+0900
TZOFFSETTO:+0900
TZNAME:KST
DTSTART:20180101T000000
END:STANDARD
END:VTIMEZONE
BEGIN:VEVENT
DTSTART;TZID=Asia/Seoul:20190820T163000
DTEND;TZID=Asia/Seoul:20190820T173000
DTSTAMP:20260423T071855
CREATED:20190619T105835Z
LAST-MODIFIED:20240707T090132Z
UID:1031-1566318600-1566322200@dimag.ibs.re.kr
SUMMARY:Mihyun Kang (강미현)\, The genus of a random graph and the fragile genus property
DESCRIPTION:In this talk we shall discuss how quickly the genus of the Erdős-Rényi random graph grows as the number of edges increases and how dramatically a small number of random edges can increase the genus of a randomly perturbed graph. (Joint work with Chris Dowden and Michael Krivelevich)
URL:https://dimag.ibs.re.kr/event/2019-08-20/
LOCATION:Room B232\, IBS (기초과학연구원)
CATEGORIES:Discrete Math Seminar
END:VEVENT
END:VCALENDAR