BEGIN:VCALENDAR
VERSION:2.0
PRODID:-//Discrete Mathematics Group - ECPv6.15.20//NONSGML v1.0//EN
CALSCALE:GREGORIAN
METHOD:PUBLISH
X-WR-CALNAME:Discrete Mathematics Group
X-ORIGINAL-URL:https://dimag.ibs.re.kr
X-WR-CALDESC:Events for Discrete Mathematics Group
REFRESH-INTERVAL;VALUE=DURATION:PT1H
X-Robots-Tag:noindex
X-PUBLISHED-TTL:PT1H
BEGIN:VTIMEZONE
TZID:Asia/Seoul
BEGIN:STANDARD
TZOFFSETFROM:+0900
TZOFFSETTO:+0900
TZNAME:KST
DTSTART:20180101T000000
END:STANDARD
END:VTIMEZONE
BEGIN:VEVENT
DTSTART;TZID=Asia/Seoul:20190508T163000
DTEND;TZID=Asia/Seoul:20190508T173000
DTSTAMP:20260423T105442
CREATED:20190310T074230Z
LAST-MODIFIED:20240707T090513Z
UID:673-1557333000-1557336600@dimag.ibs.re.kr
SUMMARY:Sang June Lee (이상준)\, On strong Sidon sets of integers
DESCRIPTION:Let $\mathbb N$ be the set of natural numbers. A set $A\subset \mathbb N$ is called a Sidon set if the sums $a_1+a_2$\, with $a_1\,a_2\in S$ and $a_1\leq a_2$\, are distinct\, or equivalently\, if \[|(x+w)-(y+z)|\geq 1\] for every $x\,y\,z\,w\in S$ with $x<y\leq z<w$. We define strong Sidon sets as follows: \nFor a constant $\alpha$ with $0\leq \alpha<1$\, a set $S\subset \mathbb N$ is called an $\alpha$-strong Sidon set if \[|(x+w)-(y+z)|\geq w^\alpha\] for every $x\,y\,z\,w\in S$ with $x<y\leq z<w$. \nThe motivation of strong Sidon sets is that a strong Sidon set generates many Sidon sets by altering each element a bit. This infers that a dense strong Sidon set will guarantee a dense Sidon set contained in a sparse random subset of $\mathbb N$. \nIn this talk\, we are interested in how dense a strong Sidon set can be. This is joint work with Yoshiharu Kohayakawa\, Carlos Gustavo Moreira and Vojtěch Rödl.
URL:https://dimag.ibs.re.kr/event/2019-05-08/
LOCATION:Room B232\, IBS (기초과학연구원)
CATEGORIES:Discrete Math Seminar
END:VEVENT
END:VCALENDAR