BEGIN:VCALENDAR
VERSION:2.0
PRODID:-//Discrete Mathematics Group - ECPv6.15.20//NONSGML v1.0//EN
CALSCALE:GREGORIAN
METHOD:PUBLISH
X-ORIGINAL-URL:https://dimag.ibs.re.kr
X-WR-CALDESC:Events for Discrete Mathematics Group
REFRESH-INTERVAL;VALUE=DURATION:PT1H
X-Robots-Tag:noindex
X-PUBLISHED-TTL:PT1H
BEGIN:VTIMEZONE
TZID:Asia/Seoul
BEGIN:STANDARD
TZOFFSETFROM:+0900
TZOFFSETTO:+0900
TZNAME:KST
DTSTART:20210101T000000
END:STANDARD
END:VTIMEZONE
BEGIN:VEVENT
DTSTART;TZID=Asia/Seoul:20220314T163000
DTEND;TZID=Asia/Seoul:20220314T173000
DTSTAMP:20260423T172712
CREATED:20220314T073000Z
LAST-MODIFIED:20240705T174136Z
UID:5218-1647275400-1647279000@dimag.ibs.re.kr
SUMMARY:Tuan Anh Do\, Rank- and tree-width of supercritical random graphs
DESCRIPTION:It is known that the rank- and tree-width of the random graph $G(n\,p)$ undergo a phase transition at $p = 1/n$; whilst for subcritical $p$\, the rank- and tree-width are bounded above by a constant\, for supercritical $p$\, both parameters are linear in $n$. The known proofs of these results use as a black box an important theorem of Benjamini\, Kozma\, and Wormald on the expansion of supercritical random graphs. We give a new\, short\, and direct proof of these results\, leading to more explicit bounds on these parameters\, and also consider the rank- and tree-width of supercritical random graphs closer to the critical point\, showing that this phase transition is smooth. \nThis is joint work with Joshua Erde and Mihyun Kang.
URL:https://dimag.ibs.re.kr/event/2022-03-14/
LOCATION:Room B232\, IBS (기초과학연구원)
CATEGORIES:Discrete Math Seminar
END:VEVENT
END:VCALENDAR