BEGIN:VCALENDAR
VERSION:2.0
PRODID:-//Discrete Mathematics Group - ECPv6.15.20//NONSGML v1.0//EN
CALSCALE:GREGORIAN
METHOD:PUBLISH
X-WR-CALNAME:Discrete Mathematics Group
X-ORIGINAL-URL:https://dimag.ibs.re.kr
X-WR-CALDESC:Events for Discrete Mathematics Group
REFRESH-INTERVAL;VALUE=DURATION:PT1H
X-Robots-Tag:noindex
X-PUBLISHED-TTL:PT1H
BEGIN:VTIMEZONE
TZID:Asia/Seoul
BEGIN:STANDARD
TZOFFSETFROM:+0900
TZOFFSETTO:+0900
TZNAME:KST
DTSTART:20210101T000000
END:STANDARD
END:VTIMEZONE
BEGIN:VEVENT
DTSTART;TZID=Asia/Seoul:20220307T163000
DTEND;TZID=Asia/Seoul:20220307T173000
DTSTAMP:20260423T172251
CREATED:20220307T073000Z
LAST-MODIFIED:20240705T174154Z
UID:5315-1646670600-1646674200@dimag.ibs.re.kr
SUMMARY:Kevin Hendrey\, A unified Erdős-Pósa theorem for cycles in graphs labelled by multiple abelian groups (revisited)
DESCRIPTION:This talk follows on from the recent talk of Pascal Gollin in this seminar series\, but will aim to be accessible for newcomers. \nErdős and Pósa proved in 1965 that there is a duality between the maximum size of a packing of cycles and the minimum size of a vertex set hitting all cycles. By relaxing `packing’ to `half-integral packing’\, Reed obtained an analogous result for odd cycles\, and gave a structural characterisation of when the (integral) packing version fails. \nWe prove some far-reaching generalisations of these theorems. First\, we show that if the edges of a graph are labelled by finitely many abelian groups\, then the cycles whose values avoid a fixed finite set for each abelian group satisfy the half-integral Erdős-Pósa property. Similarly to Reed\, we give a structural characterisation for the failure of the integral Erdős-Pósa property in this setting. This allows us to deduce the full Erdős-Pósa property for many natural classes of cycles. \nWe will look at applications of these results to graphs embedded on surfaces\, and also discuss some possibilities and obstacles for extending these results. \nThis is joint work with Kevin Hendrey\, Ken-ichi Kawarabayashi\, O-joung Kwon\, Sang-il Oum\, and Youngho Yoo.
URL:https://dimag.ibs.re.kr/event/2022-03-07/
LOCATION:Room B232\, IBS (기초과학연구원)
CATEGORIES:Discrete Math Seminar
END:VEVENT
END:VCALENDAR