BEGIN:VCALENDAR
VERSION:2.0
PRODID:-//Discrete Mathematics Group - ECPv6.15.20//NONSGML v1.0//EN
CALSCALE:GREGORIAN
METHOD:PUBLISH
X-ORIGINAL-URL:https://dimag.ibs.re.kr
X-WR-CALDESC:Events for Discrete Mathematics Group
REFRESH-INTERVAL;VALUE=DURATION:PT1H
X-Robots-Tag:noindex
X-PUBLISHED-TTL:PT1H
BEGIN:VTIMEZONE
TZID:Asia/Seoul
BEGIN:STANDARD
TZOFFSETFROM:+0900
TZOFFSETTO:+0900
TZNAME:KST
DTSTART:20210101T000000
END:STANDARD
END:VTIMEZONE
BEGIN:VEVENT
DTSTART;TZID=Asia/Seoul:20220215T163000
DTEND;TZID=Asia/Seoul:20220215T173000
DTSTAMP:20260423T190837
CREATED:20220215T073000Z
LAST-MODIFIED:20240707T080430Z
UID:5212-1644942600-1644946200@dimag.ibs.re.kr
SUMMARY:Jinha Kim (김진하)\, Independent domination of graphs with bounded maximum degree
DESCRIPTION:An independent dominating set of a graph\, also known as a maximal independent set\, is a set $S$ of pairwise non-adjacent vertices such that every vertex not in $S$ is adjacent to some vertex in $S$. We prove that for $\Delta=4$ or $\Delta\ge 6$\, every connected $n$-vertex graph of maximum degree at most $\Delta$ has an independent dominating set of size at most $(1-\frac{\Delta}{ \lfloor\Delta^2/4\rfloor+\Delta })(n-1)+1$. In addition\, we characterize all connected graphs having the equality and we show that other connected graphs have an independent dominating set of size at most $(1-\frac{\Delta}{ \lfloor\Delta^2/4\rfloor+\Delta })n$.\nThis is joint work with Eun-Kyung Cho\, Minki Kim\, and Sang-il Oum.
URL:https://dimag.ibs.re.kr/event/2022-02-15/
LOCATION:Room B232\, IBS (기초과학연구원)
CATEGORIES:Discrete Math Seminar
END:VEVENT
END:VCALENDAR