BEGIN:VCALENDAR
VERSION:2.0
PRODID:-//Discrete Mathematics Group - ECPv6.15.20//NONSGML v1.0//EN
CALSCALE:GREGORIAN
METHOD:PUBLISH
X-WR-CALNAME:Discrete Mathematics Group
X-ORIGINAL-URL:https://dimag.ibs.re.kr
X-WR-CALDESC:Events for Discrete Mathematics Group
REFRESH-INTERVAL;VALUE=DURATION:PT1H
X-Robots-Tag:noindex
X-PUBLISHED-TTL:PT1H
BEGIN:VTIMEZONE
TZID:Asia/Seoul
BEGIN:STANDARD
TZOFFSETFROM:+0900
TZOFFSETTO:+0900
TZNAME:KST
DTSTART:20200101T000000
END:STANDARD
END:VTIMEZONE
BEGIN:VEVENT
DTSTART;TZID=Asia/Seoul:20211102T163000
DTEND;TZID=Asia/Seoul:20211102T173000
DTSTAMP:20260424T045051
CREATED:20211109T073000Z
LAST-MODIFIED:20240707T080853Z
UID:4780-1635870600-1635874200@dimag.ibs.re.kr
SUMMARY:Ben Lund\, Maximal 3-wise intersecting families
DESCRIPTION:A family $\mathcal F$ of subsets of {1\,2\,…\,n} is called maximal k-wise intersecting if every collection of at most k members from $\mathcal F$ has a common element\, and moreover\, no set can be added to $\mathcal F$ while preserving this property. In 1974\, Erdős and Kleitman asked for the smallest possible size of a maximal k-wise intersecting family\, for k≥3. We resolve this problem for k=3 and n even and sufficiently large. \nThis is joint work with Kevin Hendrey\, Casey Tompkins\, and Tuan Tran.
URL:https://dimag.ibs.re.kr/event/2021-11-02/
LOCATION:Room B232\, IBS (기초과학연구원)
CATEGORIES:Discrete Math Seminar
END:VEVENT
END:VCALENDAR