BEGIN:VCALENDAR
VERSION:2.0
PRODID:-//Discrete Mathematics Group - ECPv6.15.20//NONSGML v1.0//EN
CALSCALE:GREGORIAN
METHOD:PUBLISH
X-WR-CALNAME:Discrete Mathematics Group
X-ORIGINAL-URL:https://dimag.ibs.re.kr
X-WR-CALDESC:Events for Discrete Mathematics Group
REFRESH-INTERVAL;VALUE=DURATION:PT1H
X-Robots-Tag:noindex
X-PUBLISHED-TTL:PT1H
BEGIN:VTIMEZONE
TZID:Asia/Seoul
BEGIN:STANDARD
TZOFFSETFROM:+0900
TZOFFSETTO:+0900
TZNAME:KST
DTSTART:20200101T000000
END:STANDARD
END:VTIMEZONE
BEGIN:VEVENT
DTSTART;TZID=Asia/Seoul:20210713T163000
DTEND;TZID=Asia/Seoul:20210713T173000
DTSTAMP:20260424T131412
CREATED:20210519T133727Z
LAST-MODIFIED:20240707T081244Z
UID:4110-1626193800-1626197400@dimag.ibs.re.kr
SUMMARY:Jaehoon Kim (김재훈)\, $K_{r+1}$-saturated graphs with small spectral radius
DESCRIPTION:For a graph $H$\, a graph $G$ is $H$-saturated if $G$ does not contain $H$ as a subgraph but for any $e\in E(\overline G)$\, $G+e$ contains $H$. In this note\, we prove a sharp lower bound for the number of paths and walks on length 2 in $n$-vertex $K_{r+1}$-saturated graphs. We then use this bound to give a lower bound on the spectral radii of such graphs which is asymptotically tight for each fixed $r$ and $n\to \infty$.
URL:https://dimag.ibs.re.kr/event/2021-07-13/
LOCATION:Room B232\, IBS (기초과학연구원)
CATEGORIES:Discrete Math Seminar
END:VEVENT
END:VCALENDAR