BEGIN:VCALENDAR
VERSION:2.0
PRODID:-//Discrete Mathematics Group - ECPv6.15.20//NONSGML v1.0//EN
CALSCALE:GREGORIAN
METHOD:PUBLISH
X-ORIGINAL-URL:https://dimag.ibs.re.kr
X-WR-CALDESC:Events for Discrete Mathematics Group
REFRESH-INTERVAL;VALUE=DURATION:PT1H
X-Robots-Tag:noindex
X-PUBLISHED-TTL:PT1H
BEGIN:VTIMEZONE
TZID:Asia/Seoul
BEGIN:STANDARD
TZOFFSETFROM:+0900
TZOFFSETTO:+0900
TZNAME:KST
DTSTART:20240101T000000
END:STANDARD
END:VTIMEZONE
BEGIN:VEVENT
DTSTART;VALUE=DATE:20250818
DTEND;VALUE=DATE:20250821
DTSTAMP:20260419T233240
CREATED:20250322T120039Z
LAST-MODIFIED:20250818T042052Z
UID:10706-1755475200-1755734399@dimag.ibs.re.kr
SUMMARY:2025 Combinatorics Workshop (2025 조합론 학술대회)
DESCRIPTION:Website: https://cw2025.combinatorics.kr \nInvited Speakers\n\nDongsu Kim (KAIST)\nEun Jung Kim (KAIST)\nO-joung Kwon (Hanyang University)\nAe Ja Lee (Pennsylvania State University)\nZhicong Lin (Shandong University)\n\nOrganizing Committee\n\nSang-il Oum (엄상일)\, IBS Discrete Mathematics Group\nJang Soo Kim (김장수)\, Sungkyunkwan University\nSeunghyun Seo (서승현)\, Kangwon National University
URL:https://dimag.ibs.re.kr/event/cw2025/
LOCATION:IBS Science Culture Center
CATEGORIES:Workshops and Conferences
END:VEVENT
BEGIN:VEVENT
DTSTART;VALUE=DATE:20250820
DTEND;VALUE=DATE:20250825
DTSTAMP:20260419T233240
CREATED:20250722T052942Z
LAST-MODIFIED:20250722T053013Z
UID:11276-1755648000-1756079999@dimag.ibs.re.kr
SUMMARY:2025 Korean Student Combinatorics Workshop (KSCW2025: 2025 조합론 학생 워크샵)
DESCRIPTION:Venue\nThe K-Hotel Gyeongju \nWebsite\nhttps://indico.ibs.re.kr/e/kscw2025 \nOrganizers\n\nSeokbeom Kim (김석범)\, KAIST and IBS Discrete Mathematics Group\nHyunwoo Lee (이현우)\, KAIST and IBS Extremal Combinatorics and Probability Group\nJaehyeon Seo (서재현)\, Yonsei University\nKyungjin Cho (조경진)\, POSTECH
URL:https://dimag.ibs.re.kr/event/kscw2025/
LOCATION:The K-Hotel Gyeongju
CATEGORIES:Workshops and Conferences
END:VEVENT
BEGIN:VEVENT
DTSTART;VALUE=DATE:20251127
DTEND;VALUE=DATE:20251201
DTSTAMP:20260419T233240
CREATED:20250421T055422Z
LAST-MODIFIED:20251130T005151Z
UID:10819-1764201600-1764547199@dimag.ibs.re.kr
SUMMARY:5th East Asia Workshop on Extremal and Structural Graph Theory
DESCRIPTION:The 5th East Asia Workshop on Extremal and Structural Graph Theory is a workshop to bring active researchers in the field of extremal and structural graph theory\, especially in the East Asia such as China\, Japan\, and Korea. \n \nDate\nNovember 27\, 2025 Thursday (Arrival Day) — November 30\, 2025 Sunday (Departure Day) \nVenue\nFraser Place Namdaemun\, Seoul \nProgram Book\nInvited Speakers\n\nShinya Fujita (Yokohama City University)\nJie Han (Beijing Institute of Technology)\nTony Huynh (IBS Discrete Mathematics Group)\nJaehoon Kim (KAIST)\nO-joung Kwon (Hanyang University / IBS Discrete Mathematics Group)\nHong Liu (IBS Extremal Combinatorics and Probability Group)\nJie Ma (University of Science and Technology of China / Tsinghua University)\nShun-ichi Maezawa (Nihon University)\nBoram Park (Seoul National University)\nShohei Satake (Kumamoto University)\nTuan Tran (University of Science and Technology of China)\nShoichi Tsuchiya (Senshu University)\nXuding Zhu (Zhejiang Normal University)\n\nOrganizers\nSeog-Jin Kim\, Sang-il Oum\, Kenta Ozeki\, Hehui Wu \nRegistration\nInvitation Only. https://indico.ibs.re.kr/event/1041/ \nThere is no registration fee and one dinner (banquet) will be provided. \nHistory\n\n4th East Asia Workshop on Extremal and Structural Graph Theory\n\nMar. 27 – Mar. 31\, 2025.\nSchool of Mathematics\, Sun-Yet Sen University\, Guangzhou\, China\nOrganizers: Ping Hu\, Seog-Jin Kim\, Kenta Ozeki\, Hehui Wu.\n\n\n\n\n3rd East Asia Workshop on Extremal and Structural Graph Theory\n\nNov. 1- Nov. 5\, 2023.\nThe Southern Beach Hotel & Resort\, Okinawa\, Japan\nSponsored by the IBS Discrete Mathematics Group\, Korea.\nOrganizers: Seog-Jin Kim\, Sang-il Oum\, Kenta Ozeki\, Hehui Wu.\n\n\n2nd East Asia Workshop on Extremal and Structural Graph Theory\n\nOct. 31-Nov. 4\, 2019.\nHeld at UTOP UBLESS Hotel\, Jeju\, Korea\nSponsored by the IBS Discrete Mathematics Group\, Korea.\nOrganizers: Seog-Jin Kim\, Sang-il Oum\, Kenta Ozeki\, Hehui Wu.\n\n\n1st East Asia Workshop on Extremal and Structural Graph Theory\n\nNov. 30-Dec. 2\, 2018.\nHeld and sponsored by the Shanghai Center for Mathematical Sciences in China\, under the name 2018 SCMS Workshop on Extremal and Structural Graph Theory.\nOrganizers: Ping Hu\, Seog-Jin Kim\, Kenta Ozeki\, Hehui Wu.\n\n\n\n\n\nThursday\nNovember 27\, 2025\n\n\n\n\nTime\nSpeaker\nAffiliation\nTitle\n\n\n\n\n16:00–18:00\n\nRegistration & Discussions\n\n\n\n\n \n\n\nFriday\nNovember 28\, 2025\n\n\n\n\nTime\nSpeaker\nAffiliation\nTitle\n\n\n\n\n09:20–10:00\nJaehoon Kim\nKAIST\nHamilton cycles in pseudorandom graphs: Dirac’s theorem and approximate decompositions\n\n\n10:00–10:30\n\nCoffee Break\n\n\n10:30–11:10\nJie Ma\nUniversity of Science and Technology of China / Tsinghua University\nAn exponential improvement for Ramsey lower bounds\n\n\n11:20–12:00\nShinya Fujita\nYokohama City University\nConnectivity keeping paths containing prescribed vertices in highly connected triangle-free graphs\n\n\n12:00–14:00\n\nLunch Break\n\n\n14:00–14:40\nShun-ichi Maezawa\nNihon University\nTree versus tree of preorder induced by rainbow forbidden subgraphs\n\n\n14:50–15:30\nTony Huynh\nIBS Discrete Mathematics Group\nRainbow triangles and the Erdős–Hajnal problem in projective geometries\n\n\n15:30–15:50\n\nCoffee Break\n\n\n16:30–17:30\n\nProblem Session\n\n\n\n\n \n\n\nSaturday\nNovember 29\, 2025\n\n\n\n\nTime\nSpeaker\nAffiliation\nTitle\n\n\n\n\n09:20–10:00\nXuding Zhu\nZhejiang Normal University\nTBA\n\n\n10:00–10:30\n\nCoffee Break\n\n\n10:30–11:10\nHong Liu\nIBS Extremal Combinatorics and Probability Group\nChromatic\, homomorphism\, blowup thresholds and beyond\n\n\n11:20–12:00\nShohei Satake\nKumamoto University\nTBA\n\n\n12:00–14:00\n\nLunch Break\n\n\n14:00–14:40\nShoichi Tsuchiya\nSenshu University\nOn the number of contractible edges in plane triangulations\n\n\n14:50–15:30\nTuan Tran\nUniversity of Science and Technology of China\nLittlewood-Offord bounds on the symmetric groups and applications\n\n\n15:30–15:50\n\nCoffee Break\n\n\n15:50–16:30\nO-joung Kwon\nHanyang University / IBS Discrete Mathematics Group\nA coarse Erdős–Pósa theorem\n\n\n16:30–17:30\n\nProblem Session\n\n\n18:30–21:00\n\nBanquet\n\n\n\n\n \n\n\nSunday\nNovember 30\, 2025\n\n\n\n\nTime\nSpeaker\nAffiliation\nTitle\n\n\n\n\n10:00–10:40\nJie Han\nBeijing Institute of Technology\nPerturbation of dense graphs\n\n\n10:40–10:50\n\nBreak\n\n\n10:50–11:30\nBoram Park\nSeoul National University\nGraphs avoiding cycles of length 0 modulo 4\n\n\n11:30–12:00\n\nClosing
URL:https://dimag.ibs.re.kr/event/2025-east-asia-graph-theory/
LOCATION:Seoul\, Korea
CATEGORIES:Workshops and Conferences
ORGANIZER;CN="Seog-Jin Kim (%EA%B9%80%EC%84%9D%EC%A7%84)":MAILTO:skim12@konkuk.ac.kr
END:VEVENT
BEGIN:VEVENT
DTSTART;VALUE=DATE:20260628
DTEND;VALUE=DATE:20260712
DTSTAMP:20260419T233240
CREATED:20260415T104127Z
LAST-MODIFIED:20260415T104444Z
UID:12537-1782604800-1783814399@dimag.ibs.re.kr
SUMMARY:2026 Workshop on Topological Combinatorics
DESCRIPTION:The 2026 Workshop on Topological Combinatorics will be held from June 28 to July 11\, 2026 at Gwangju Institute of Science and Technology (GIST)\, located in Gwangju in the southwest of Republic of Korea.  \nThe workshop aims to bring together researchers interested in applications of topology to combinatorics and related areas. This will be the fifth workshop in a series initiated by Ron Aharoni (August 2018 in Shantou\, July 2019 in Prague\, July 2020 on Zoom\, and June 2024 in Paris). \nThe first week (June 28 – July 04) will be reserved for presentations\, while the following days (July 05 – July 11) will be for discussion and collaborations.  \nThe campus offers a variety of amenities\, including a guesthouse that can accommodate approximately 20 guests. \nIn addition\, various lodging options are available within a 15–20 minute walking distance. \nWe are planning to provide accommodation for all invited participants\, and we are also considering offering partial travel support for those with limited funding. \n\nWebsite: https://sites.google.com/view/2026topocomb
URL:https://dimag.ibs.re.kr/event/2026-06-28/
LOCATION:GIST
CATEGORIES:Workshops and Conferences
END:VEVENT
BEGIN:VEVENT
DTSTART;VALUE=DATE:20260727
DTEND;VALUE=DATE:20260801
DTSTAMP:20260419T233240
CREATED:20260415T104353Z
LAST-MODIFIED:20260415T104353Z
UID:12545-1785110400-1785542399@dimag.ibs.re.kr
SUMMARY:2026 Korean Student Combinatorics Workshop
DESCRIPTION:Website: https://kscw.combinatorics.kr/
URL:https://dimag.ibs.re.kr/event/2026-07-27/
LOCATION:Gongju Hanok Village\, Gongju
CATEGORIES:Workshops and Conferences
END:VEVENT
END:VCALENDAR