BEGIN:VCALENDAR
VERSION:2.0
PRODID:-//Discrete Mathematics Group - ECPv6.15.20//NONSGML v1.0//EN
CALSCALE:GREGORIAN
METHOD:PUBLISH
X-WR-CALNAME:Discrete Mathematics Group
X-ORIGINAL-URL:https://dimag.ibs.re.kr
X-WR-CALDESC:Events for Discrete Mathematics Group
REFRESH-INTERVAL;VALUE=DURATION:PT1H
X-Robots-Tag:noindex
X-PUBLISHED-TTL:PT1H
BEGIN:VTIMEZONE
TZID:Asia/Seoul
BEGIN:STANDARD
TZOFFSETFROM:+0900
TZOFFSETTO:+0900
TZNAME:KST
DTSTART:20180101T000000
END:STANDARD
END:VTIMEZONE
BEGIN:VEVENT
DTSTART;VALUE=DATE:20190813
DTEND;VALUE=DATE:20190816
DTSTAMP:20260424T095847
CREATED:20190410T011602Z
LAST-MODIFIED:20240707T090140Z
UID:748-1565654400-1565913599@dimag.ibs.re.kr
SUMMARY:2019 Combinatorics Workshop
DESCRIPTION:The annual conference on Combinatorics Workshop (조합론 학술대회) began in 2004 by the Yonsei University BK21 Research Group. This year it will take place in Songdo\, Incheon\, August 13-15\, 2019. \n\n\n\n\n\n\n\n\n\nDue to the capacity (50 persons) of the place\, we are able to limit your registration. In principle\, registration is on a first-come\, first-served basis. \n\n\n\n\n\n\n\n\n\n\nTitle 2019 Combinatorics Workshop (2019 조합론 학술대회)\nDate August 13-15 (Tue-Thu)\, 2019\nVenue Hotel Skypark\, Songdo\, Incheon\nWeb https://cw2019.combinatorics.kr\n\nWe are going to \n\ngive six 50-minute talks and ten 25-minute talks in Korean.\ndistribute the program and abstracts of CW2019.\nprovide for the accommodations for all participants.\nprovide for six meals (two breakfasts\, two luncheons\, one dinner\, and one banquet) for all participants.\n\nPlenary Speaker\n\nMihyun Kang\, Graz University of Technology\n\nKeynote Speakers\n\nJaehoon Kim\, KAIST\nSeung Jin Lee\, Seoul National University\nMeesue Yoo\, Dankook University\n\nInvited Speakers\n\nEun-Kyung Cho\, Hankuk University of Foreign Studies\nSoogang Eoh\, Seoul National University\nJiSun Huh\, Sungkyunkwan University\nJihyeug Jang\, Sungkyunkwan University\nDong Yeap Kang\, KAIST and IBS Discrete Mathematics Group\nMin Jeong Kang\, Incheon National University\nDabeen Lee\, IBS Discrete Mathematics Group\nKang-Ju Lee\, Seoul National University\nMyeonghwan Lee\, Incheon National University\nJihye Park\, Yeungnam University\nSun-mi Yun\, Sungkyunkwan University\n\nOrganizing Committee\n\nO-joung Kwon\, Incheon National University and IBS Discrete Mathematics Group\nSuil O\, SUNY Korea\nSang-il Oum\, IBS Discrete Mathematics Group and KAIST\nHeesung Shin\, Inha University\n\nAdvisory Committee\n\nCommittee of Discrete Mathematics\, The Korean Mathematical Society (Chair: Seog-Jin Kim\, Konkuk University)\n\nSponsors\n\nIBS Discrete Mathematics Group\nNRF (National Research Foundation of Korea)
URL:https://dimag.ibs.re.kr/event/2019-combinatorics-workshop/
LOCATION:Hotel Skypark\, Songdo\, Incheon\, Korea (송도 스카이파크호텔)
CATEGORIES:Workshops and Conferences
ATTACH;FMTTYPE=image/png:https://dimag.ibs.re.kr/cms/wp-content/uploads/2019/06/unnamed.png
END:VEVENT
END:VCALENDAR