BEGIN:VCALENDAR
VERSION:2.0
PRODID:-//Discrete Mathematics Group - ECPv6.15.20//NONSGML v1.0//EN
CALSCALE:GREGORIAN
METHOD:PUBLISH
X-WR-CALNAME:Discrete Mathematics Group
X-ORIGINAL-URL:https://dimag.ibs.re.kr
X-WR-CALDESC:Events for Discrete Mathematics Group
REFRESH-INTERVAL;VALUE=DURATION:PT1H
X-Robots-Tag:noindex
X-PUBLISHED-TTL:PT1H
BEGIN:VTIMEZONE
TZID:Asia/Seoul
BEGIN:STANDARD
TZOFFSETFROM:+0900
TZOFFSETTO:+0900
TZNAME:KST
DTSTART:20200101T000000
END:STANDARD
END:VTIMEZONE
BEGIN:VEVENT
DTSTART;VALUE=DATE:20211220
DTEND;VALUE=DATE:20211223
DTSTAMP:20260421T224718
CREATED:20211219T150000Z
LAST-MODIFIED:20240707T080557Z
UID:4146-1639958400-1640217599@dimag.ibs.re.kr
SUMMARY:2021 Combinatorics Workshop (2021 조합론 학술대회)
DESCRIPTION:The Combinatorics Workshop (조합론 학술대회) is an annual conference of combinatorialists in Korea that started in 2004 by the Yonsei University BK21 Research Group. Since 2013\, this workshop has been advised by the committee of discrete mathematics of the Korean Mathematical Society. This year it will take place at The Bloomvista in Yangpyeong on December 20-22\, 2021. \nThe aim of this workshop is to bring together active researchers with different backgrounds to discuss recent and prospective advances in combinatorics and related areas. \nWe plan to limit the number of participants. Registration (without a fee) will be required. General participants will be required to pay for their own accommodation. \n\nTitle: 2021 Combinatorics Workshop (2021 조합론 학술대회)\nDate: December 20 – 22 (Mon-Wed)\, 2021\nVenue: The Bloomvista\, Yangpyeong\nWebsite: https://cw2021.combinatorics.kr\n\nPlan\n\nStarting in the afternoon of Thursday and ending in the morning of Wednesday.\nThere will be 5 invited talks for 50 minutes each.\nThere will be contributed talks for 25 minutes each.\n\nUsing English is recommended if there are non-Korean participants in the audience.\nThe call for contributed talks will be announced later.\n\n\nIt will be an offline meeting.\n\nInvited Speakers\n\nDongsu Kim\, KAIST\nJoonkyung Lee\, Hanyang University\nHong Liu\, University of Warwick\, UK\nSuil O\, SUNY Korea\nSeonjeong Park\, Jeonju University\n\nCall for Abstracts\nWe are looking for contributed talks! If you are interested in giving a contributed talk\, then please submit your abstract until November 15\, 2021. \nRegistration\n\nPlease fill out the registration form by November 21\, 2021.\n\nThe registration is free.\nThe organizers will announce the price for the accommodation soon.\n\n\nDue to the government COVID-19 policy\, the organizers may reject some registration\, even if the registration was made before November 21.\n\nOrganizing Committee\n\nJeong-Ok Choi\, GIST\nSang-il Oum\, IBS Discrete Mathematics Group and KAIST\nHeesung Shin\, Inha University\n\nAdvisory Committee\nCommittee of Discrete Mathematics\, The Korean Mathematical Society (Chair: Soojin Cho\, Ajou University) \nHost and Sponsors\nIBS Discrete Mathematics Group
URL:https://dimag.ibs.re.kr/event/2021-combinatorics-workshop/
LOCATION:The Bloomvista
CATEGORIES:Workshops and Conferences
END:VEVENT
END:VCALENDAR