BEGIN:VCALENDAR
VERSION:2.0
PRODID:-//Discrete Mathematics Group - ECPv6.15.20//NONSGML v1.0//EN
CALSCALE:GREGORIAN
METHOD:PUBLISH
X-WR-CALNAME:Discrete Mathematics Group
X-ORIGINAL-URL:https://dimag.ibs.re.kr
X-WR-CALDESC:Events for Discrete Mathematics Group
REFRESH-INTERVAL;VALUE=DURATION:PT1H
X-Robots-Tag:noindex
X-PUBLISHED-TTL:PT1H
BEGIN:VTIMEZONE
TZID:Asia/Seoul
BEGIN:STANDARD
TZOFFSETFROM:+0900
TZOFFSETTO:+0900
TZNAME:KST
DTSTART:20210101T000000
END:STANDARD
END:VTIMEZONE
BEGIN:VEVENT
DTSTART;TZID=Asia/Seoul:20221018T163000
DTEND;TZID=Asia/Seoul:20221018T173000
DTSTAMP:20260420T002517
CREATED:20220824T133830Z
LAST-MODIFIED:20240705T171142Z
UID:6071-1666110600-1666114200@dimag.ibs.re.kr
SUMMARY:Florent Koechlin\, Uniform random expressions lack expressivity
DESCRIPTION:In computer science\, random expressions are commonly used to analyze algorithms\, either to study their average complexity\, or to generate benchmarks to test them experimentally. In general\, these approaches only consider the expressions as purely syntactic trees\, and completely ignore their semantics — i.e. the mathematical object represented by the expression. \nHowever\, two different expressions can be equivalent (for example “0*(x+y)” and “0” represent the same expression\, the null expression). Can these redundancies question the relevance of the analyses and tests that do not take into account the semantics of the expressions? \nI will present how the uniform distribution over syntactic expression becomes completely degenerate when we start taking into account their semantics\, in a very simple but common case where there is an absorbing element. If time permits it\, I will briefly explain why the BST distribution offers more hope. \nThis is a joint work with Cyril Nicaud and Pablo Rotondo.
URL:https://dimag.ibs.re.kr/event/2022-10-18/
LOCATION:Room B332\, IBS (기초과학연구원)
CATEGORIES:Discrete Math Seminar
END:VEVENT
END:VCALENDAR