BEGIN:VCALENDAR
VERSION:2.0
PRODID:-//Discrete Mathematics Group - ECPv6.15.20//NONSGML v1.0//EN
CALSCALE:GREGORIAN
METHOD:PUBLISH
X-WR-CALNAME:Discrete Mathematics Group
X-ORIGINAL-URL:https://dimag.ibs.re.kr
X-WR-CALDESC:Events for Discrete Mathematics Group
REFRESH-INTERVAL;VALUE=DURATION:PT1H
X-Robots-Tag:noindex
X-PUBLISHED-TTL:PT1H
BEGIN:VTIMEZONE
TZID:Asia/Seoul
BEGIN:STANDARD
TZOFFSETFROM:+0900
TZOFFSETTO:+0900
TZNAME:KST
DTSTART:20210101T000000
END:STANDARD
END:VTIMEZONE
BEGIN:VEVENT
DTSTART;TZID=Asia/Seoul:20221004T163000
DTEND;TZID=Asia/Seoul:20221004T173000
DTSTAMP:20260420T002519
CREATED:20220825T224353Z
LAST-MODIFIED:20240707T074613Z
UID:6077-1664901000-1664904600@dimag.ibs.re.kr
SUMMARY:Zixiang Xu (徐子翔)\, On the degenerate Turán problems
DESCRIPTION:For a graph $F$\, the Turán number is the maximum number of edges in an $n$-vertex simple graph not containing $F$. The celebrated Erdős-Stone-Simonovits Theorem gives that \[ \text{ex}(n\,F)=\bigg(1-\frac{1}{\chi(F)-1}+o(1)\bigg)\binom{n}{2}\,\] where $\chi(F)$ is the chromatic number of $H$. This theorem asymptotically solves the problem when $\chi(F)\geqslant 3$. In case of bipartite graphs $F$\, not even the order of magnitude is known in general. In this talk\, I will introduce some recent progress on Turán numbers of bipartite graphs and related generalizations and discuss several methods developed in recent years. Finally\, I will introduce some interesting open problems on this topic.
URL:https://dimag.ibs.re.kr/event/2022-10-04/
LOCATION:Room B332\, IBS (기초과학연구원)
CATEGORIES:Discrete Math Seminar
END:VEVENT
END:VCALENDAR