BEGIN:VCALENDAR
VERSION:2.0
PRODID:-//Discrete Mathematics Group - ECPv6.15.20//NONSGML v1.0//EN
CALSCALE:GREGORIAN
METHOD:PUBLISH
X-WR-CALNAME:Discrete Mathematics Group
X-ORIGINAL-URL:https://dimag.ibs.re.kr
X-WR-CALDESC:Events for Discrete Mathematics Group
REFRESH-INTERVAL;VALUE=DURATION:PT1H
X-Robots-Tag:noindex
X-PUBLISHED-TTL:PT1H
BEGIN:VTIMEZONE
TZID:Asia/Seoul
BEGIN:STANDARD
TZOFFSETFROM:+0900
TZOFFSETTO:+0900
TZNAME:KST
DTSTART:20210101T000000
END:STANDARD
END:VTIMEZONE
BEGIN:VEVENT
DTSTART;TZID=Asia/Seoul:20220823T163000
DTEND;TZID=Asia/Seoul:20220823T173000
DTSTAMP:20260420T052407
CREATED:20220823T073000Z
LAST-MODIFIED:20240705T171142Z
UID:5971-1661272200-1661275800@dimag.ibs.re.kr
SUMMARY:Raul Lopes\, Temporal Menger and related problems
DESCRIPTION:A temporal graph is a graph whose edges are available only at specific times. In this scenario\, the only valid walks are the ones traversing adjacent edges respecting their availability\, i.e. sequence of adjacent edges whose appearing times are non-decreasing. \nGiven a graph G and vertices s and t of G\, Menger’s Theorem states that the maximum number of (internally) vertex disjoint s\,t-paths is equal to the minimum size of a subset X for which G-X contains no s\,t-path. This is a classical result in Graph Theory\, taught in most basic Graph Theory courses\, and it holds also when G is directed and when edge disjoint paths and edge cuts are considered instead. A direct translation of Menger’s Theorem to the temporal context has been known not to hold since an example was shown in the seminal paper by Kempe\, Kleinberg and Kumar (STOC’00). In this talk\, an overview of possible temporal versions of Menger’s Theorem will be discussed\, as well as the complexity of the related problems.
URL:https://dimag.ibs.re.kr/event/2022-08-23/
LOCATION:Room B332\, IBS (기초과학연구원)
CATEGORIES:Discrete Math Seminar
END:VEVENT
END:VCALENDAR