BEGIN:VCALENDAR
VERSION:2.0
PRODID:-//Discrete Mathematics Group - ECPv6.15.20//NONSGML v1.0//EN
CALSCALE:GREGORIAN
METHOD:PUBLISH
X-WR-CALNAME:Discrete Mathematics Group
X-ORIGINAL-URL:https://dimag.ibs.re.kr
X-WR-CALDESC:Events for Discrete Mathematics Group
REFRESH-INTERVAL;VALUE=DURATION:PT1H
X-Robots-Tag:noindex
X-PUBLISHED-TTL:PT1H
BEGIN:VTIMEZONE
TZID:Asia/Seoul
BEGIN:STANDARD
TZOFFSETFROM:+0900
TZOFFSETTO:+0900
TZNAME:KST
DTSTART:20210101T000000
END:STANDARD
END:VTIMEZONE
BEGIN:VEVENT
DTSTART;TZID=Asia/Seoul:20220704T163000
DTEND;TZID=Asia/Seoul:20220704T173000
DTSTAMP:20260420T070531
CREATED:20220704T073000Z
LAST-MODIFIED:20240707T075651Z
UID:5797-1656952200-1656955800@dimag.ibs.re.kr
SUMMARY:Eric Vigoda\, Computational phase transition and MCMC algorithms
DESCRIPTION:This talk will highlight recent results establishing a beautiful computational phase transition for approximate counting/sampling in (binary) undirected graphical models (such as the Ising model or on weighted independent sets). The computational problem is to sample from the equilibrium distribution of the model or equivalently approximate the corresponding normalizing factor known as the partition function. We show that when correlations die off on the infinite D-regular tree then the Gibbs sampler has optimal mixing time of $O(n \log n)$ on any graph of maximum degree D\, whereas when the correlations persist (in the limit) then the sampling/counting problem are NP-hard to approximate.  The Gibbs sampler is a simple Markov Chain Monte Carlo (MCMC) algorithm. Key to these mixing results are a new technique known as spectral independence which considers the pairwise influence of vertices. We show that spectral independence implies an optimal convergence rate for a variety of MCMC algorithms.
URL:https://dimag.ibs.re.kr/event/2022-07-04/
LOCATION:Room B332\, IBS (기초과학연구원)
CATEGORIES:Discrete Math Seminar
END:VEVENT
END:VCALENDAR