BEGIN:VCALENDAR
VERSION:2.0
PRODID:-//Discrete Mathematics Group - ECPv6.15.20//NONSGML v1.0//EN
CALSCALE:GREGORIAN
METHOD:PUBLISH
X-WR-CALNAME:Discrete Mathematics Group
X-ORIGINAL-URL:https://dimag.ibs.re.kr
X-WR-CALDESC:Events for Discrete Mathematics Group
REFRESH-INTERVAL;VALUE=DURATION:PT1H
X-Robots-Tag:noindex
X-PUBLISHED-TTL:PT1H
BEGIN:VTIMEZONE
TZID:Asia/Seoul
BEGIN:STANDARD
TZOFFSETFROM:+0900
TZOFFSETTO:+0900
TZNAME:KST
DTSTART:20210101T000000
END:STANDARD
END:VTIMEZONE
BEGIN:VEVENT
DTSTART;TZID=Asia/Seoul:20220502T163000
DTEND;TZID=Asia/Seoul:20220502T173000
DTSTAMP:20260420T102015
CREATED:20220502T073000Z
LAST-MODIFIED:20240707T080029Z
UID:5511-1651509000-1651512600@dimag.ibs.re.kr
SUMMARY:Cheolwon Heo (허철원)\, The complexity of the matroid-homomorphism problems
DESCRIPTION:In this talk\, we introduce homomorphisms between binary matroids that generalize graph homomorphisms. For a binary matroid $N$\, we prove a complexity dichotomy for the problem $\rm{Hom}_\mathbb{M}(N)$ of deciding if a binary matroid $M$ admits a homomorphism to $N$. The problem is polynomial-time solvable if $N$ has a loop or has no circuits of odd length\, and is otherwise $\rm{NP}$-complete. We also get dichotomies for the list\, extension\, and retraction versions of the problem.\nThis is joint work with Hyobin Kim and Mark Siggers at Kyungpook National University.
URL:https://dimag.ibs.re.kr/event/2022-05-02/
LOCATION:Room B332\, IBS (기초과학연구원)
CATEGORIES:Discrete Math Seminar
END:VEVENT
END:VCALENDAR