BEGIN:VCALENDAR
VERSION:2.0
PRODID:-//Discrete Mathematics Group - ECPv6.15.20//NONSGML v1.0//EN
CALSCALE:GREGORIAN
METHOD:PUBLISH
X-WR-CALNAME:Discrete Mathematics Group
X-ORIGINAL-URL:https://dimag.ibs.re.kr
X-WR-CALDESC:Events for Discrete Mathematics Group
REFRESH-INTERVAL;VALUE=DURATION:PT1H
X-Robots-Tag:noindex
X-PUBLISHED-TTL:PT1H
BEGIN:VTIMEZONE
TZID:Asia/Seoul
BEGIN:STANDARD
TZOFFSETFROM:+0900
TZOFFSETTO:+0900
TZNAME:KST
DTSTART:20210101T000000
END:STANDARD
END:VTIMEZONE
BEGIN:VEVENT
DTSTART;VALUE=DATE:20220320
DTEND;VALUE=DATE:20220328
DTSTAMP:20260420T121111
CREATED:20220131T150000Z
LAST-MODIFIED:20240705T175059Z
UID:3527-1647734400-1648425599@dimag.ibs.re.kr
SUMMARY:MATRIX-IBS Workshop: Structural Graph Theory Downunder II
DESCRIPTION:This program consists of a short intensive workshop\, where mathematicians from across the globe will come together to work on open problems in structural graph theory. We will consider the following research themes: graph minors\, graph colouring\, Hadwiger’s Conjecture\, bounded expansion classes\, graph product structure theory\, generalised colouring numbers\, VC dimension\, induced subgraphs\, Erdős-Hajnal conjecture\, Gyárfás-Sumner conjecture\, twin-width\, asymptotic dimension. The majority of the time will be allocated to collaborative research (with only a few talks). The goal is to create an environment where mathematicians at all career stages work side-by-side. We anticipate that open problems will be solved\, and lasting collaborations will be initiated. \nURL: https://www.matrix-inst.org.au/events/structural-graph-theory-downunder-ll/ \nRegistration is by invitation only. If you are interested to participate in this research program\, please contact one of the organisers with your CV and research background. \n 
URL:https://dimag.ibs.re.kr/event/2022-03-20/
LOCATION:MATRIX\, Australia
CATEGORIES:Workshops and Conferences
END:VEVENT
END:VCALENDAR