BEGIN:VCALENDAR
VERSION:2.0
PRODID:-//Discrete Mathematics Group - ECPv6.15.20//NONSGML v1.0//EN
CALSCALE:GREGORIAN
METHOD:PUBLISH
X-ORIGINAL-URL:https://dimag.ibs.re.kr
X-WR-CALDESC:Events for Discrete Mathematics Group
REFRESH-INTERVAL;VALUE=DURATION:PT1H
X-Robots-Tag:noindex
X-PUBLISHED-TTL:PT1H
BEGIN:VTIMEZONE
TZID:Asia/Seoul
BEGIN:STANDARD
TZOFFSETFROM:+0900
TZOFFSETTO:+0900
TZNAME:KST
DTSTART:20210101T000000
END:STANDARD
END:VTIMEZONE
BEGIN:VEVENT
DTSTART;TZID=Asia/Seoul:20220104T163000
DTEND;TZID=Asia/Seoul:20220104T173000
DTSTAMP:20260422T193745
CREATED:20211210T230406Z
LAST-MODIFIED:20240707T080549Z
UID:5000-1641313800-1641317400@dimag.ibs.re.kr
SUMMARY:Seunghun Lee (이승훈)\, Transversals and colorings of simplicial spheres
DESCRIPTION:Motivated from the surrounding property of a point set in $\mathbb{R}^d$ introduced by Holmsen\, Pach and Tverberg\, we consider the transversal number and chromatic number of a simplicial sphere. As an attempt to give a lower bound for the maximum transversal ratio of simplicial $d$-spheres\, we provide two infinite constructions. The first construction gives infinitely many $(d+1)$-dimensional simplicial polytopes with the transversal ratio exactly $\frac{2}{d+2}$ for every $d\geq 2$. In the case of $d=2$\, this meets the previously well-known upper bound $1/2$ tightly. The second gives infinitely many simplicial 3-spheres with the transversal ratio greater than $1/2$. This was unexpected from what was previously known about the surrounding property. Moreover\, we show that\, for $d\geq 3$\, the facet hypergraph $\mathcal{F}(\mathbf{P})$ of a $(d+1)$-dimensional simplicial polytope $\mathbf{P}$ has the chromatic number $\chi(\mathcal{F}(\mathbf{P})) \in O(n^{\frac{\lceil d/2\rceil-1}{d}})$\, where $n$ is the number of vertices of $\mathbf{P}$. This slightly improves the upper bound previously obtained by Heise\, Panagiotou\, Pikhurko\, and Taraz. This is a joint work with Joseph Briggs and Michael Gene Dobbins.
URL:https://dimag.ibs.re.kr/event/2022-01-04/
LOCATION:Room B232\, IBS (기초과학연구원)
CATEGORIES:Discrete Math Seminar
END:VEVENT
END:VCALENDAR