BEGIN:VCALENDAR
VERSION:2.0
PRODID:-//Discrete Mathematics Group - ECPv6.15.20//NONSGML v1.0//EN
CALSCALE:GREGORIAN
METHOD:PUBLISH
X-WR-CALNAME:Discrete Mathematics Group
X-ORIGINAL-URL:https://dimag.ibs.re.kr
X-WR-CALDESC:Events for Discrete Mathematics Group
REFRESH-INTERVAL;VALUE=DURATION:PT1H
X-Robots-Tag:noindex
X-PUBLISHED-TTL:PT1H
BEGIN:VTIMEZONE
TZID:Asia/Seoul
BEGIN:STANDARD
TZOFFSETFROM:+0900
TZOFFSETTO:+0900
TZNAME:KST
DTSTART:20200101T000000
END:STANDARD
END:VTIMEZONE
BEGIN:VEVENT
DTSTART;VALUE=DATE:20211123
DTEND;VALUE=DATE:20211127
DTSTAMP:20260423T003737
CREATED:20211122T150000Z
LAST-MODIFIED:20240705T181013Z
UID:4872-1637625600-1637971199@dimag.ibs.re.kr
SUMMARY:Graph Product Structure Theory: Gathering of Participants from Korea
DESCRIPTION:On November 22-26\, 2021\, there is a “Graph Product Structure Theory” workshop in BIRS Centre in Banff (https://www.birs.ca/events/2021/5-day-workshops/21w5235)\, organized in a hybrid manner with 15 onsite participants and around 50 remote participants. We would like to meet in a group of 5-10 remote participants from Korea in one place\, creating a secondary workshop site in Korea. This would allow joint participation in online talks and in-person discussions between local participants.
URL:https://dimag.ibs.re.kr/event/2021-11-22/
LOCATION:Room B223\, IBS (기초과학연구원)
CATEGORIES:Workshops and Conferences
END:VEVENT
END:VCALENDAR